Workbook

Sheet Budget
A1: Categorie | B1: Soort | C1: Budget per maand | D1: Uitgegeven deze maand | E1: Over
A2: Salaris | B2: Inkomsten | C2: 2500 | D2: =SUMIFS(Uitgaven!$D:$D,Uitgaven!$C:$C,A2,Uitgaven!$E:$E,Uitgaven!$G$1) | E2: =C2-D2
A3: Toeslagen | B3: Inkomsten | C3: 0 | D3: =SUMIFS(Uitgaven!$D:$D,Uitgaven!$C:$C,A3,Uitgaven!$E:$E,Uitgaven!$G$1) | E3: =C3-D3
A4: Huur of hypotheek | B4: Uitgaven | C4: 1000 | D4: =SUMIFS(Uitgaven!$D:$D,Uitgaven!$C:$C,A4,Uitgaven!$E:$E,Uitgaven!$G$1) | E4: =C4-D4
A5: Energie | B5: Uitgaven | C5: 150 | D5: =SUMIFS(Uitgaven!$D:$D,Uitgaven!$C:$C,A5,Uitgaven!$E:$E,Uitgaven!$G$1) | E5: =C5-D5
A6: Water | B6: Uitgaven | C6: 25 | D6: =SUMIFS(Uitgaven!$D:$D,Uitgaven!$C:$C,A6,Uitgaven!$E:$E,Uitgaven!$G$1) | E6: =C6-D6
A7: Gemeentebelastingen | B7: Uitgaven | C7: 40 | D7: =SUMIFS(Uitgaven!$D:$D,Uitgaven!$C:$C,A7,Uitgaven!$E:$E,Uitgaven!$G$1) | E7: =C7-D7
A8: Zorgverzekering | B8: Uitgaven | C8: 150 | D8: =SUMIFS(Uitgaven!$D:$D,Uitgaven!$C:$C,A8,Uitgaven!$E:$E,Uitgaven!$G$1) | E8: =C8-D8
A9: Overige verzekeringen | B9: Uitgaven | C9: 40 | D9: =SUMIFS(Uitgaven!$D:$D,Uitgaven!$C:$C,A9,Uitgaven!$E:$E,Uitgaven!$G$1) | E9: =C9-D9
A10: Internet en tv | B10: Uitgaven | C10: 55 | D10: =SUMIFS(Uitgaven!$D:$D,Uitgaven!$C:$C,A10,Uitgaven!$E:$E,Uitgaven!$G$1) | E10: =C10-D10
A11: Mobiel | B11: Uitgaven | C11: 20 | D11: =SUMIFS(Uitgaven!$D:$D,Uitgaven!$C:$C,A11,Uitgaven!$E:$E,Uitgaven!$G$1) | E11: =C11-D11
A12: Abonnementen | B12: Uitgaven | C12: 30 | D12: =SUMIFS(Uitgaven!$D:$D,Uitgaven!$C:$C,A12,Uitgaven!$E:$E,Uitgaven!$G$1) | E12: =C12-D12
A13: Boodschappen | B13: Uitgaven | C13: 400 | D13: =SUMIFS(Uitgaven!$D:$D,Uitgaven!$C:$C,A13,Uitgaven!$E:$E,Uitgaven!$G$1) | E13: =C13-D13
... A20: Onvoorzien | B20: Uitgaven | C20: 50 | D20: =SUMIFS(Uitgaven!$D:$D,Uitgaven!$C:$C,A20,Uitgaven!$E:$E,Uitgaven!$G$1) | E20: =C20-D20
A22: Inkomsten totaal | C22: =SUMIF(B2:B20,"Inkomsten",C2:C20)
A23: Uitgaven totaal | C23: =SUMIF(B2:B20,"Uitgaven",C2:C20) | D23: =SUMIF(B2:B20,"Uitgaven",D2:D20)
A24: Houd je over | C24: =C22-C23

Sheet Uitgaven
A1: Datum | B1: Omschrijving | C1: Categorie | D1: Bedrag | E1: Maand | F1: Toon maand: | G1: 1 | H1: ← maandnummer (1 = januari) voor het overzicht op tabblad Budget
A2: 46390 | B2: Albert Heijn | C2: Boodschappen | D2: 64.35 | E2: =IF(A2="","",MONTH(A2))
A3: 46394 | B3: NS | C3: Vervoer | D3: 12.8 | E3: =IF(A3="","",MONTH(A3))
A4: 46398 | B4: Spotify | C4: Abonnementen | D4: 11.99 | E4: =IF(A4="","",MONTH(A4))
E5: =IF(A5="","",MONTH(A5))
E6: =IF(A6="","",MONTH(A6))
E7: =IF(A7="","",MONTH(A7))
E8: =IF(A8="","",MONTH(A8))
E9: =IF(A9="","",MONTH(A9))
E10: =IF(A10="","",MONTH(A10))
E11: =IF(A11="","",MONTH(A11))
E12: =IF(A12="","",MONTH(A12))
E13: =IF(A13="","",MONTH(A13))
E14: =IF(A14="","",MONTH(A14))
E15: =IF(A15="","",MONTH(A15))
E16: =IF(A16="","",MONTH(A16))
... E501: =IF(A501="","",MONTH(A501))

Sheet Uitleg
A1: Gratis huishoudboekje van GeenGeldGedoe.nl
A3: 1. Tabblad Budget: zet je eigen categorieën en het bedrag dat je per maand wilt uitgeven. De voorbeeldbedragen mag je overschrijven.
A4: 2. Tabblad Uitgaven: noteer elke uitgave met datum, categorie (kies uit de lijst) en bedrag. Je mag de drie voorbeeldregels wissen.
A5: 3. Zet rechtsboven op Uitgaven het maandnummer. Op Budget zie je dan per categorie wat je die maand hebt uitgegeven en wat er nog over is.
A7: Geen zin meer in overtikken?
A8: Dit bestand kun je in een paar klikken inlezen in de Budgetplanner van GeenGeldGedoe.nl: je categorieën en budgetten staan er dan meteen in.
A9: In de app: ga naar Budget en klik bij 'Houd je je budget al bij in een eigen spreadsheet?' op 'Importeer 'm'. Kies dit bestand, en daarna kolom 'Categorie' als naam en 'Budget per maand' als bedrag.
A10: Bij het inlezen kies je per categorie of het inkomsten of uitgaven zijn.
A11: Daarna importeer je je bankafschrift als CSV (Knab, ING, Rabobank) in plaats van alles zelf over te tikken, en kun je samen met je partner op je telefoon bijhouden.
A12: 14 dagen gratis proberen: www.geengeldgedoe.nl/budgetplanner
